BEGIN:VCALENDAR
VERSION:2.0
PRODID:-//Nautischer Verein Brunsbüttel - ECPv6.11.2//NONSGML v1.0//EN
CALSCALE:GREGORIAN
METHOD:PUBLISH
X-WR-CALNAME:Nautischer Verein Brunsbüttel
X-ORIGINAL-URL:https://nautischerverein.de
X-WR-CALDESC:Veranstaltungen für Nautischer Verein Brunsbüttel
REFRESH-INTERVAL;VALUE=DURATION:PT1H
X-Robots-Tag:noindex
X-PUBLISHED-TTL:PT1H
BEGIN:VTIMEZONE
TZID:Europe/Berlin
BEGIN:DAYLIGHT
TZOFFSETFROM:+0100
TZOFFSETTO:+0200
TZNAME:CEST
DTSTART:20240331T010000
END:DAYLIGHT
BEGIN:STANDARD
TZOFFSETFROM:+0200
TZOFFSETTO:+0100
TZNAME:CET
DTSTART:20241027T010000
END:STANDARD
END:VTIMEZONE
BEGIN:VEVENT
DTSTART;TZID=Europe/Berlin:20240603T190000
DTEND;TZID=Europe/Berlin:20240603T203000
DTSTAMP:20260422T142118
CREATED:20240316T143426Z
LAST-MODIFIED:20240320T152444Z
UID:341-1717441200-1717446600@nautischerverein.de
SUMMARY:Vortrag "Torinstandsetzungsdock" siehe dazu www.nautischerverein.de
DESCRIPTION:Vortrag Herr Hubert Stramann (Wasserneubauamt Magdeburg WNA) zum Sachstand Dock Brunsbüttel
URL:https://nautischerverein.de/event/vortrag-tbn-siehe-dazu-www-nautischerverein-de/
END:VEVENT
END:VCALENDAR